BEGIN:VCALENDAR
VERSION:2.0
CALSCALE:GREGORIAN
PRODID:-//CapNatu//Events//FR
METHOD:PUBLISH
BEGIN:VEVENT
UID:69ecd1c861b7d@capnatu.com
DTSTAMP:20260425T143800Z
DTSTART;TZID=Europe/Paris:20260425T100000
DTEND;TZID=Europe/Paris:20260425T160000
SUMMARY:Boutique Yess – Élégance & Féminité 👗✨
DESCRIPTION:✨👗 Boutique Yess – Élégance & Féminité 👗✨\n📍 Héliopolis – Cap d’Agde Village Naturiste\nDécouvrez Yess\, une boutique dédiée à la beauté et à la mise en valeur de la femme… 😏\n👗 Prêt-à-porter\n💋 Lingerie\n👜 Accessoires\n💇‍♀️ Perruques\nUn univers où chaque détail est pensé pour sublimer votre style et révéler votre personnalité\n🤍 Conseils personnalisés & accueil chaleureux\nIci\, le sourire et l’écoute sont toujours au rendez-vous\n✨ Laissez-vous séduire et révélez toute votre féminité ✨\n📍 Héliopolis – Cap d’Agde Village Naturiste
LOCATION:Galerie Héliopolis\, 1 Boulevard des Matelots 34300 Cap d'Agde Village Naturiste
STATUS:CONFIRMED
END:VEVENT
END:VCALENDAR
