BEGIN:VCALENDAR
VERSION:2.0
CALSCALE:GREGORIAN
PRODID:-//CapNatu//Events//FR
METHOD:PUBLISH
BEGIN:VEVENT
UID:69ecd1c8a6103@capnatu.com
DTSTAMP:20260425T143800Z
DTSTART;TZID=Europe/Paris:20260425T193000
DTEND;TZID=Europe/Paris:20260425T203000
RRULE:FREQ=DAILY;UNTIL=20260531T235959
SUMMARY:LE COW GIRL – L’ESPRIT FAR WEST AU CŒUR DU VILLAGE ✨🤠
DESCRIPTION:🤠✨ LE COW GIRL – L’ESPRIT FAR WEST AU CŒUR DU VILLAGE ✨🤠\n📍 Port Nature – Cap d’Agde Village Naturiste\nEnvie de changer d’univers ? Direction le Far West… 😏🌵\nLe Cow Girl vous plonge dans un décor unique où convivialité\, caractère et raffinement se rencontrent.\n🍽️ Ouvert tous les soirs du mercredi au dimanche\n☀️ Et le dimanche midi\n👨‍🍳 Une cuisine généreuse et savoureuse\, aux accents authentiques\, pensée pour éveiller vos papilles…\n🤎 Un accueil chaleureux\, comme à la maison\n🔥 Une ambiance dépaysante et pleine de caractère\n🥃 Bois\, lumière tamisée\, esprit western…\nChaque détail vous transporte ailleurs\n✨ Entre amis ou en duo\, vivez une expérience unique au cœur du village ✨\n📞 Infos & réservations : 06 72 34 93 21
LOCATION:2 Avenue des Matelots 34300 Cap d'Agde Village Naturiste
STATUS:CONFIRMED
END:VEVENT
END:VCALENDAR
