BEGIN:VCALENDAR
VERSION:2.0
CALSCALE:GREGORIAN
PRODID:-//CapNatu//Events//FR
METHOD:PUBLISH
BEGIN:VEVENT
UID:69ecd27a86863@capnatu.com
DTSTAMP:20260425T144058Z
DTSTART;TZID=Europe/Paris:20260425T200000
DTEND;TZID=Europe/Paris:20260425T210000
SUMMARY:Soirée Rock’n’Roll à La Terraza 🎸🔥
DESCRIPTION:🔥🎸 Samedi 25 avril – Soirée Rock’n’Roll à La Terraza 🎸🔥\n📍 Restaurant La Terraza – Port Soleil\, Cap d’Agde Village Naturiste\nLe gros son arrive… préparez-vous à faire vibrer la soirée 🤘\n⏰ Dès 20h\n🍻 Boire\n🍽️ Manger\n🤝 Partager\nCe soir\, la devise prend tout son sens… et l’ambiance monte d’un cran 🔥\n🎶 Rock\, énergie et bonne humeur au rendez-vous\n💃 Une soirée festive à vivre entre amis\n✨ Laissez-vous emporter par le rythme… et vivez une vraie nuit Rock’n’Roll ✨\n📞 Réservation : 06 46 54 44 71
LOCATION:Parking Port Soleil A côté de l'agence Immobilière Peng 34300 Cap d'Agde Village Naturiste
STATUS:CONFIRMED
END:VEVENT
END:VCALENDAR
