BEGIN:VCALENDAR
VERSION:2.0
CALSCALE:GREGORIAN
PRODID:-//CapNatu//Events//FR
METHOD:PUBLISH
BEGIN:VEVENT
UID:69ecd2be5528d@capnatu.com
DTSTAMP:20260425T144206Z
DTSTART;TZID=Europe/Paris:20260425T190000
DTEND;TZID=Europe/Paris:20260425T200000
RRULE:FREQ=WEEKLY;BYDAY=SA;UNTIL=20260530T235959
SUMMARY:📍 Bar Festif Le Look – Port Nature\, Cap d’Agde Village Naturiste
DESCRIPTION:🌈🔥 SAMEDI 25 AVRIL – SOIRÉE DE FOLIE 🔥🌈\n📍 Bar Festif Le Look – Port Nature\, Cap d’Agde Village Naturiste\nPlace à la couleur\, à la fête et à la liberté… 😏✨\n⏰ Dès 19h – Apéro\n🍸 Ambiance conviviale pour lancer la soirée\n⏰ Dès 22h – DJ SET\n🎧 DJ So’Mix aux platines pour vous faire vibrer jusqu’au bout de la nuit 💃🕺\n🌈 Ambiance Gay & Friendly\n🔥 Énergie festive\, inclusive et décomplexée\n🍹 Cocktails\, musique\, rencontres…\ntout est réuni pour un week-end inoubliable !\n✨ Le rendez-vous incontournable de Port Nature ✨
LOCATION:2\, Boulevard des Matelots 34300 Cap d'Agde Village Naturiste
STATUS:CONFIRMED
END:VEVENT
END:VCALENDAR
