BEGIN:VCALENDAR
VERSION:2.0
CALSCALE:GREGORIAN
PRODID:-//CapNatu//Events//FR
METHOD:PUBLISH
BEGIN:VEVENT
UID:69eccf75f3499@capnatu.com
DTSTAMP:20260425T142805Z
DTSTART;TZID=Europe/Paris:20260425T183000
DTEND;TZID=Europe/Paris:20260425T193000
SUMMARY:Samedi 25 avril – Soirée Hot Provok Party ✨🔥
DESCRIPTION:🔥✨ Samedi 25 avril – Soirée Hot Provok Party ✨🔥\nLe bar restaurant L’Arche & Le Mary’s vous donne rendez-vous pour une soirée qui promet d’être… électrique 😏\n🕡 Dès 18h30\n🍸 Apéro tapas\n🎧 Puis place à la fête avec DJ Gaby aux platines pour vous faire vibrer jusqu’à 1h 🔥\n💃 Ambiance festive\n🎶 Son entraînant\n✨ Énergie et bonne humeur au rendez-vous\nPréparez-vous pour une soirée intense dans l’atmosphère unique de Port Nature…\n📍 Port Nature – Cap d’Agde Village Naturiste
LOCATION:Colline 5\, Résidence Port Nature 34300 Cap d'Agde Village Naturiste
STATUS:CONFIRMED
END:VEVENT
END:VCALENDAR
