BEGIN:VCALENDAR
VERSION:2.0
CALSCALE:GREGORIAN
PRODID:-//CapNatu//Events//FR
METHOD:PUBLISH
BEGIN:VEVENT
UID:69eb7a43e34ca@capnatu.com
DTSTAMP:20260424T141219Z
DTSTART;TZID=Europe/Paris:20260424T120000
DTEND;TZID=Europe/Paris:20260424T233000
SUMMARY:Vendredi midi & soir – La Marmite du Pêcheur à O’Caprices 🍲🐟
DESCRIPTION:🐟🍲 Vendredi midi & soir – La Marmite du Pêcheur à O’Caprices 🍲🐟\nLe bar restaurant O’Caprices vous propose une délicieuse spécialité à savourer sans modération 😋\n🔥 Marmite du pêcheur\n🧄 Rouille maison\nUn plat généreux et plein de saveurs\, idéal à partager entre amis dans un cadre agréable…\n🌊 Face au port de Port Soleil\, profitez d’un moment gourmand avec vue !\n🍽️ Service midi & soir\n✨ Convivialité – Saveurs – Plaisir ✨\n📍 Port Soleil – Cap d’Agde Village Naturiste\n📞 Réservation : 04 99 43 77 78
LOCATION:4 Avenue de Port Ambonne Résidence Port Soleil 34300 Cap d'Agde Village Naturiste
STATUS:CONFIRMED
END:VEVENT
END:VCALENDAR
