BEGIN:VCALENDAR
VERSION:2.0
CALSCALE:GREGORIAN
PRODID:-//CapNatu//Events//FR
METHOD:PUBLISH
BEGIN:VEVENT
UID:69eb79cce136c@capnatu.com
DTSTAMP:20260424T141020Z
DTSTART;TZID=Europe/Paris:20260424T000000
DTEND;TZID=Europe/Paris:20260424T050000
SUMMARY:Vendredi 24 avril – Soirée au Bisous Club 🎧🔥
DESCRIPTION:🔥🎧 Vendredi 24 avril – Soirée au Bisous Club 🎧🔥\nVotre club Bisous Club vous attend nombreux pour une nuit débridée\, chaleureuse et festive 😏\n🕛 De minuit à 5h\n🎧 Aux platines : DJ Sorak\n💃 Ambiance club & énergie jusqu’au bout de la nuit\nPréparez-vous à vivre une soirée intense entre musique\, rencontres et bonne humeur dans l’atmosphère unique du Bisous Club 🔥\n✨ Une nuit à ne pas manquer ✨\n📍 Port Ambonne – Cap d’Agde Village Naturiste
LOCATION:Port Ambonne 34300 Le Cap D'Agde
STATUS:CONFIRMED
END:VEVENT
END:VCALENDAR
