BEGIN:VCALENDAR
VERSION:2.0
CALSCALE:GREGORIAN
PRODID:-//CapNatu//Events//FR
METHOD:PUBLISH
BEGIN:VEVENT
UID:69eb79367b2e3@capnatu.com
DTSTAMP:20260424T140750Z
DTSTART;TZID=Europe/Paris:20260424T200000
DTEND;TZID=Europe/Paris:20260424T210000
RRULE:FREQ=DAILY;UNTIL=20260425T235959
SUMMARY:Vendredi 24 & Samedi 25 avril – La suggestion du Mood ✨🍽️
DESCRIPTION:🍽️✨ Vendredi 24 & Samedi 25 avril – La suggestion du Mood ✨🍽️\nLe bar restaurant Le Mood vous propose une savoureuse suggestion à ne pas manquer 😋\n🔥 Filet de bar sauce salsa verde\n🍆 Ratatouille maison\nUn plat plein de saveurs à déguster dans une ambiance chaleureuse et festive…\n🕗 Dès 20h et jusqu’à 01h\n🍸 Dîner entre amis\n🎶 Ambiance conviviale\n💃 Soirée animée\nVenez partager un moment gourmand et profiter de l’atmosphère unique du Mood à Héliopolis !\n📍 Héliopolis – Cap d’Agde Village Naturiste\n📞 Réservation : 06 10 23 62 00
LOCATION:1 Bd des Matelots 34300 Cap d'Agde Village Naturiste
STATUS:CONFIRMED
END:VEVENT
END:VCALENDAR
