BEGIN:VCALENDAR
VERSION:2.0
CALSCALE:GREGORIAN
PRODID:-//CapNatu//Events//FR
METHOD:PUBLISH
BEGIN:VEVENT
UID:69eb79ed103de@capnatu.com
DTSTAMP:20260424T141053Z
DTSTART;TZID=Europe/Paris:20260424T000000
DTEND;TZID=Europe/Paris:20260424T050000
SUMMARY:Vendredi 24 avril – Soirée Plaisirs Interdits au Plug&Play 🎧🔥
DESCRIPTION:🔥🎧 Vendredi 24 avril – Soirée Plaisirs Interdits au Plug&Play 🎧🔥\nDès minuit et jusqu’à 5h\, votre discothèque Plug&Play vous plonge dans une nuit sous haute tension… 😏\n🔥 Soirée Plaisirs Interdits\n🎧 Aux platines : Cyril G\n💃 Ambiance envoûtante & festive\nPréparez-vous à une soirée intense où la musique\, l’énergie et l’atmosphère unique du lieu vous feront vibrer jusqu’au bout de la nuit…\n✨ Une nuit à part… à vivre pleinement ✨\n📍 Port Ambonne – Cap d’Agde Village Naturiste
LOCATION:Avenue de la Joliette 34300 Cap d'Agde Village Naturiste
STATUS:CONFIRMED
END:VEVENT
END:VCALENDAR
