BEGIN:VCALENDAR
VERSION:2.0
CALSCALE:GREGORIAN
PRODID:-//CapNatu//Events//FR
METHOD:PUBLISH
BEGIN:VEVENT
UID:69eb79a7d3dc6@capnatu.com
DTSTAMP:20260424T140943Z
DTSTART;TZID=Europe/Paris:20260424T200000
DTEND;TZID=Europe/Paris:20260424T210000
SUMMARY:Vendredi 24 avril – Soirée Rétro 80 à La Terraza ✨🎶
DESCRIPTION:🎶✨ Vendredi 24 avril – Soirée Rétro 80 à La Terraza ✨🎶\nPlongez dans l’ambiance des années 80 le temps d’une soirée inoubliable 😎\n🕗 Dès 20h\n🍽️ Boire – Manger – Partager\n🎧 Puis laissez-vous emporter par DJ Seb aux platines pour une soirée pleine de hits rétro 🔥\n💃 Musique 80’s\n🎶 Ambiance festive\n✨ Convivialité & bonne humeur\nVenez revivre les meilleurs moments des années 80 dans le cadre chaleureux de La Terraza !\n📍 Port Soleil – Cap d’Agde Village Naturiste\n📞 Infos & réservation : 06 46 54 44 71
LOCATION:Parking Port Soleil A côté de l'agence Immobilière Peng 34300 Cap d'Agde Village Naturiste
STATUS:CONFIRMED
END:VEVENT
END:VCALENDAR
