BEGIN:VCALENDAR
VERSION:2.0
CALSCALE:GREGORIAN
PRODID:-//CapNatu//Events//FR
METHOD:PUBLISH
BEGIN:VEVENT
UID:69eb7874b61e1@capnatu.com
DTSTAMP:20260424T140436Z
DTSTART;TZID=Europe/Paris:20260424T183000
DTEND;TZID=Europe/Paris:20260424T193000
SUMMARY:Vendredi 24 avril – Faites l’amour\, pas la guerre ! 💥🔥
DESCRIPTION:🔥💥 Vendredi 24 avril – Faites l’amour\, pas la guerre ! 💥🔥\nLe bar restaurant L’Arche & Le Mary’s vous donnent rendez-vous pour une soirée Opération Temptation pleine d’énergie et de bonne humeur 😏\n🕡 Dès 18h30\n🍸 Apéro tapas\n🎶 Puis place à la fête avec le commando DJ Gaby aux platines 🔥\n💃 Ambiance festive\n🎧 Son entraînant\n✨ Une soirée sous le signe du plaisir et du lâcher-prise\nPréparez-vous pour une nuit animée à Port Nature\, où l’ambiance monte crescendo jusqu’au bout de la soirée…\n📍 Port Nature – Cap d’Agde Village Naturiste
LOCATION:Colline 5\, Résidence Port Nature 34300 Cap d'Agde Village Naturiste
STATUS:CONFIRMED
END:VEVENT
END:VCALENDAR
