BEGIN:VCALENDAR
VERSION:2.0
CALSCALE:GREGORIAN
PRODID:-//CapNatu//Events//FR
METHOD:PUBLISH
BEGIN:VEVENT
UID:69eb7923d6610@capnatu.com
DTSTAMP:20260424T140731Z
DTSTART;TZID=Europe/Paris:20260424T200000
DTEND;TZID=Europe/Paris:20260424T210000
SUMMARY:Vendredi 24 avril – Soirée Pluralité avec Elisa chez Histoires d’Ô ✨🔥
DESCRIPTION:🔥✨ Vendredi 24 avril – Soirée Pluralité avec Elisa chez Histoires d’Ô ✨🔥\nCe vendredi\, laissez-vous emporter par une soirée Pluralité pleine de charme et de surprises… 😏\n💫 Elisa\, sublime blonde aux formes généreuses\, vous donne rendez-vous pour une nuit placée sous le signe de la séduction et du plaisir partagé…\n🕗 Dès 20h\n🔥 Ambiance chaude & envoûtante\n💃 Rencontres & moments intenses\nSon péché mignon un généreux BUKKAKE final\nVenez vivre une expérience unique dans l’atmosphère captivante d’Histoires d’Ô…\n✨ Une soirée où tous les sens sont en éveil ✨\n📍 Port Ambonne – Cap d’Agde Village Naturiste
LOCATION:2 Av. Amphitrite 34300 Cap d'Agde Village Naturiste
STATUS:CONFIRMED
END:VEVENT
END:VCALENDAR
