BEGIN:VCALENDAR
VERSION:2.0
CALSCALE:GREGORIAN
PRODID:-//CapNatu//Events//FR
METHOD:PUBLISH
BEGIN:VEVENT
UID:69ecd1feca567@capnatu.com
DTSTAMP:20260425T143854Z
DTSTART;TZID=Europe/Paris:20260425T000000
DTEND;TZID=Europe/Paris:20260425T050000
SUMMARY:Le Bisous Club en mode tremblement ! 🎧🔥
DESCRIPTION:🔥🎧 Samedi 25 avril – Le Bisous Club en mode tremblement ! 🎧🔥\nDès minuit\, les murs vont vibrer au Bisou Club…\nAvec DJ Nola aux platines (DJ résident du Melrose) 🔥\n🎶 Son puissant\n💃 Ambiance club\n🔥 Énergie maximale jusqu’au bout de la nuit\nVenez passer un moment entre amis dans l’antre du Bisous Club\, là où la fête prend une autre dimension… 😏\n✨ Une nuit intense vous attend ✨\n📍 Port Ambonne – Cap d’Agde Village Naturiste
LOCATION:34300 Le Cap D'Agde
STATUS:CONFIRMED
END:VEVENT
END:VCALENDAR
