BEGIN:VCALENDAR
VERSION:2.0
CALSCALE:GREGORIAN
PRODID:-//CapNatu//Events//FR
METHOD:PUBLISH
BEGIN:VEVENT
UID:69ecd43e9d63d@capnatu.com
DTSTAMP:20260425T144830Z
DTSTART;TZID=Europe/Paris:20260425T190000
DTEND;TZID=Europe/Paris:20260425T200000
SUMMARY:Samedi 25 avril – Ça va chauffer au Gipetto ! 🎧🔥
DESCRIPTION:🔥🎧 Samedi 25 avril – Ça va chauffer au Gipetto ! 🎧🔥\nCe samedi\, on ne fait pas semblant…\n👉 On fout le bordel au Gipetto avec JOJO Cassidy aux platines 😏\n🕖 Dès 19h\n🍸 Apéro\n🎶 DJ set\n💃 Ambiance survoltée\nPréparez-vous à une soirée où la musique\, l’énergie et la bonne humeur vont faire monter la température à Héliopolis 🔥\n✨ Une seule règle : profiter… et lâcher prise ✨\n📍 Héliopolis – Cap d’Agde Village Naturiste\n📞 Infos & réservation : 06 18 23 16 01
LOCATION:1 Rue des Matelots Galerie Héliopolis 34300 Cap d'Agde Village Naturiste
STATUS:CONFIRMED
END:VEVENT
END:VCALENDAR
