BEGIN:VCALENDAR
VERSION:2.0
CALSCALE:GREGORIAN
PRODID:-//CapNatu//Events//FR
METHOD:PUBLISH
BEGIN:VEVENT
UID:69eb7a166cbbc@capnatu.com
DTSTAMP:20260424T141134Z
DTSTART;TZID=Europe/Paris:20260424T190000
DTEND;TZID=Europe/Paris:20260424T200000
RRULE:FREQ=WEEKLY;BYDAY=FR;UNTIL=20260529T235959
SUMMARY:Tous les vendredis – L’Apéro des Copainggs chez Le Gipetto 🔥🍹
DESCRIPTION:🍹🔥 Tous les vendredis – L’Apéro des Copainggs chez Le Gipetto 🔥🍹\nParce qu’il y a des soirées… qui peuvent tout changer 😏\nChaque vendredi\, Le Gipetto vous donne rendez-vous pour l’Apéro des Copainggs dans une ambiance conviviale\, festive et pleine de surprises…\n🕖 Dès 19h\n🍸 Apéro\n🎶 Musique\n💃 Bonne humeur & rencontres\n✨ Et si ce vendredi était celui qui change votre soirée… ou plus encore ? ✨\n📍 Héliopolis – Cap d’Agde Village Naturiste\n📞 Infos & réservation : 06 18 23 16 01
LOCATION:1 Rue des Matelots Galerie Héliopolis 34300 Cap d'Agde Village Naturiste
STATUS:CONFIRMED
END:VEVENT
END:VCALENDAR
