BEGIN:VCALENDAR
VERSION:2.0
CALSCALE:GREGORIAN
PRODID:-//CapNatu//Events//FR
METHOD:PUBLISH
BEGIN:VEVENT
UID:69ea085fc8bdc@capnatu.com
DTSTAMP:20260423T115407Z
DTSTART;TZID=Europe/Paris:20260423T110000
DTEND;TZID=Europe/Paris:20260423T233000
RRULE:FREQ=WEEKLY;BYDAY=TU,WE,TH,FR,SA,SU;UNTIL=20260503T235959
SUMMARY:Le Gipetto – Les Apéros de Fredo reviennent ! 🔥🍹
DESCRIPTION:🍹🔥 Le Gipetto – Les Apéros de Fredo reviennent ! 🔥🍹\nÀ partir du 1er mai\, le bar restaurant Le Gipetto vous accueille du mardi au dimanche…\net attention\, ça commence tôt 😏\n🕚 Dès 11h – Les apéros de Fredo\nAmbiance conviviale\, bonne humeur et moments partagés au soleil 🌞\n✨ Un seul jour de repos : le lundi… juste le temps de reprendre des forces 😉\nVenez profiter d’un lieu incontournable à Héliopolis\, au cœur du village naturiste du Cap d’Agde !\n📍 Héliopolis – Cap d’Agde Village Naturiste\n📞 06 18 23 16 01
LOCATION:1 Rue des Matelots Galerie Héliopolis 34300 Cap d'Agde Village Naturiste
STATUS:CONFIRMED
END:VEVENT
END:VCALENDAR
