BEGIN:VCALENDAR
VERSION:2.0
CALSCALE:GREGORIAN
PRODID:-//CapNatu//Events//FR
METHOD:PUBLISH
BEGIN:VEVENT
UID:69ea09826aa74@capnatu.com
DTSTAMP:20260423T115858Z
DTSTART;TZID=Europe/Paris:20260423T180000
DTEND;TZID=Europe/Paris:20260423T233000
RRULE:FREQ=WEEKLY;BYDAY=TH;UNTIL=20260528T235959
SUMMARY:Jeudi Soirée Moules à L’Air Marin 🍟🦪
DESCRIPTION:🦪🍟 Jeudi Soirée Moules à L’Air Marin 🍟🦪\nLe restaurant L’Air Marin – Poissonnerie vous donne rendez-vous tous les jeudis pour une soirée gourmande 😋\n🔥 Moules & frites maison à 16€\nUn classique incontournable à savourer dans une ambiance conviviale !\n🕕 Dès 18h\nVenez profiter d’un moment simple et délicieux à Héliopolis\, au cœur du village naturiste du Cap d’Agde… 🌊\n📍 Héliopolis – Cap d’Agde Village Naturiste\n📞 Réservation : 06 47 58 01 03
LOCATION:A boulevard des Matelots 34300 Le Cap D'Agde
STATUS:CONFIRMED
END:VEVENT
END:VCALENDAR
