BEGIN:VCALENDAR
VERSION:2.0
CALSCALE:GREGORIAN
PRODID:-//CapNatu//Events//FR
METHOD:PUBLISH
BEGIN:VEVENT
UID:69ecd3a3de2d3@capnatu.com
DTSTAMP:20260425T144555Z
DTSTART;TZID=Europe/Paris:20260425T193000
DTEND;TZID=Europe/Paris:20260425T203000
SUMMARY:Samedi 25 avril – Apéro Libertin à l’OLounge ✨🔥
DESCRIPTION:🔥✨ Samedi 25 avril – Apéro Libertin à l’OLounge ✨🔥\nEnvie de pimenter votre soirée ? 😏\nLe bar restaurant O’Lounge vous invite à un apéro libertin dans une ambiance chic\, festive et décontractée…\n🕢 De 19h30 à 1h\n🍸 Drink\n🍽️ Food\n💃 Dance\nFace au port de Port Ambonne\, laissez-vous porter par l’ambiance\, les rencontres et l’énergie unique du village naturiste… 🔥\n✨ Une soirée où plaisir\, liberté et convivialité se rencontrent ✨\n📍 Port Ambonne – Cap d’Agde Village Naturiste\n📞 Réservation : 07 51 51 93 71
LOCATION:Avenue de la Joliette 34300 Cap d'Agde Village Naturiste
STATUS:CONFIRMED
END:VEVENT
END:VCALENDAR
