BEGIN:VCALENDAR
VERSION:2.0
CALSCALE:GREGORIAN
PRODID:-//CapNatu//Events//FR
METHOD:PUBLISH
BEGIN:VEVENT
UID:69ecd383772ab@capnatu.com
DTSTAMP:20260425T144523Z
DTSTART;TZID=Europe/Paris:20260425T210000
DTEND;TZID=Europe/Paris:20260425T220000
RRULE:FREQ=WEEKLY;BYDAY=SA;UNTIL=20260530T235959
SUMMARY:Le P’tit Bal du Samedi by Allan – O’Caprices ✨🎶
DESCRIPTION:🎶✨ Le P’tit Bal du Samedi by Allan – O’Caprices ✨🎶\nEnvie d’une soirée rétro et festive ?\nLe bar restaurant O’Caprices vous invite à son P’tit Bal du Samedi 💃🕺\n🔥 Ambiance 100% vintage\n🎧 Sélection musicale par Allan\n🎶 Des sons rétro pour danser toute la nuit\n🕘 Dès 21h\, retrouvez-vous entre amis pour une soirée conviviale\, pleine de bonne humeur et de souvenirs musicaux…\n✨ Sortez vos plus beaux pas de danse et laissez-vous porter par l’ambiance !\n📍 Port Ambonne – Cap d’Agde Village Naturiste\n📞 Réservation : 04 99 43 77 78
LOCATION:4 Avenue de Port Ambonne Résidence Port Soleil 34300 Cap d'Agde Village Naturiste
STATUS:CONFIRMED
END:VEVENT
END:VCALENDAR
