BEGIN:VCALENDAR
VERSION:2.0
CALSCALE:GREGORIAN
PRODID:-//CapNatu//Events//FR
METHOD:PUBLISH
BEGIN:VEVENT
UID:69ecce973f779@capnatu.com
DTSTAMP:20260425T142423Z
DTSTART;TZID=Europe/Paris:20260425T190000
DTEND;TZID=Europe/Paris:20260425T200000
SUMMARY:Soirée Free Style au Mood 🔥
DESCRIPTION:🔥 Samedi 25 avril – Soirée Free Style au Mood 🔥\nVotre bar restaurant Le Mood vous attend pour une soirée Free Style pleine d’énergie 😏\nDès 19h\, venez profiter d’un apéro ou d’un dîner entre amis…\net laissez la soirée monter en intensité jusqu’à devenir totalement festive 💃🔥\n🍸 Cocktails\n🍽️ Dîner\n🎶 Ambiance musicale & festive\n✨ Une soirée libre\, décontractée… où tout peut arriver ✨\n📍 Héliopolis – Cap d’Agde Village Naturiste\n📞 Réservation : 06 10 23 62 00
LOCATION:1 Bd des Matelots 34300 Cap d'Agde Village Naturiste
STATUS:CONFIRMED
END:VEVENT
END:VCALENDAR
