BEGIN:VCALENDAR
VERSION:2.0
CALSCALE:GREGORIAN
PRODID:-//CapNatu//Events//FR
METHOD:PUBLISH
BEGIN:VEVENT
UID:69eb78cc7a859@capnatu.com
DTSTAMP:20260424T140604Z
DTSTART;TZID=Europe/Paris:20260424T200000
DTEND;TZID=Europe/Paris:20260424T210000
RRULE:FREQ=DAILY;UNTIL=20260425T235959
SUMMARY:🔥🍽️ Vendredi 24 & Samedi 25 avril – Le QG x Eros 🍽️🔥
DESCRIPTION:🔥🍽️ Vendredi 24 & Samedi 25 avril – Le QG x Eros 🍽️🔥\n📍 Bar Restaurant Le QG – Port Nature\, Cap d’Agde Village Naturiste\nCe week-end\, commencez la soirée comme il se doit… 😏\nLe Chef vous propose une spécialité à ne pas manquer :\n✨ Pluma de Porc Ibérique sucré-salé\nUne saveur raffinée\, à partager entre amis dans une ambiance conviviale et gourmande…\n🍷 Un dîner plaisir\n🔥 Une ambiance qui monte doucement…\n💃 Et une suite de soirée à l’Eros pour prolonger la nuit\nQui dîne au QG… danse à l’Eros 💫\nUn combo parfait pour une soirée complète entre gastronomie\, rencontres et fête…\n📞 Réservation : 06 21 16 08 91
LOCATION:4 Avenue de la Joliette 34300 Cap d'Agde Village Naturiste
STATUS:CONFIRMED
END:VEVENT
END:VCALENDAR
