BEGIN:VCALENDAR
VERSION:2.0
CALSCALE:GREGORIAN
PRODID:-//CapNatu//Events//FR
METHOD:PUBLISH
BEGIN:VEVENT
UID:69ea0826bdfaf@capnatu.com
DTSTAMP:20260423T115310Z
DTSTART;TZID=Europe/Paris:20260422T120000
DTEND;TZID=Europe/Paris:20260422T233000
RRULE:FREQ=DAILY;UNTIL=20260424T235959
SUMMARY:🌞🍽️ Ce soir\, laissez-vous tenter par La Terraza 🍽️🌞
DESCRIPTION:🌞🍽️ Ce mdi et soir\, laissez-vous tenter par La Terraza 🍽️🌞\n📍 La Terraza – Port Soleil\, Cap d’Agde Village Naturiste\nEnvie de savourer un bon moment dans un cadre agréable face au port ? 🌊\nLa Terraza vous ouvre ses portes pour une parenthèse gourmande et conviviale…\n🍽️ Des plats savoureux à partager\n🌅 Une vue apaisante sur le port de Port Soleil\n🍷 Une ambiance chaleureuse\, idéale entre amis ou en duo\n✨ Boire – Manger – Partager\nIci\, chaque instant se déguste… et se prolonge 😏\nUn lieu parfait pour se détendre\, profiter et vivre pleinement l’atmosphère du village…\n📞 Réservation : 06 46 54 44 71
LOCATION:Parking Port Soleil A côté de l'agence Immobilière Peng 34300 Cap d'Agde Village Naturiste
STATUS:CONFIRMED
END:VEVENT
END:VCALENDAR
