BEGIN:VCALENDAR
VERSION:2.0
CALSCALE:GREGORIAN
PRODID:-//CapNatu//Events//FR
METHOD:PUBLISH
BEGIN:VEVENT
UID:69e77e9c07dfe@capnatu.com
DTSTAMP:20260421T134148Z
DTSTART;TZID=Europe/Paris:20260421T083000
DTEND;TZID=Europe/Paris:20260421T200000
RRULE:FREQ=DAILY;UNTIL=20260426T235959
SUMMARY:📍 Carrefour Express – Port Ambonne
DESCRIPTION:🍷✨ PROMO DE LA SEMAINE ✨🍷\n📍 Carrefour Express – Port Ambonne\nCap d’Agde Village Naturiste\nCette semaine\, faites le plein de plaisir 🍇\n🔥 Offre spéciale sur les vins :\n🍷 Rouge\n🥂 Blanc\n🌸 Rosé\nParfaits pour vos apéritifs entre amis dans l’ambiance unique du village magique 🌅\n✨ À consommer avec modération…\n😏 …mais à saisir sans modération !\n📍 Port Ambonne – Cap d’Agde\nVillage Naturiste
LOCATION:Avenue de Port Ambonne 34300 Cap d'Agde Village Naturiste
STATUS:CONFIRMED
END:VEVENT
END:VCALENDAR
