BEGIN:VCALENDAR
VERSION:2.0
CALSCALE:GREGORIAN
PRODID:-//CapNatu//Events//FR
METHOD:PUBLISH
BEGIN:VEVENT
UID:69e8b2766c51b@capnatu.com
DTSTAMP:20260422T113518Z
DTSTART;TZID=Europe/Paris:20260422T140000
DTEND;TZID=Europe/Paris:20260422T150000
RRULE:FREQ=WEEKLY;BYDAY=WE;UNTIL=20260701T235959
SUMMARY:🔥😈 Mercredi – Journée Trio Sex à Histoires d’Ô 😈🔥
DESCRIPTION:🔥😈 Mercredi – Journée Trio Sex à Histoires d’Ô 😈🔥\n📍 Sauna Libertin Histoires d’Ô – Port Ambonne\, Cap d’Agde Village Naturiste\nLe mercredi… les envies se multiplient 🔥\nOsez franchir les limites du jeu et laissez-vous emporter dans une ambiance intense\, troublante et terriblement excitante…\n💋 Regards qui se croisent…\n🔥 Désirs qui s’entremêlent…\n✨ Complicités qui se créent sans un mot…\nUne journée où tout devient possible\, où les rencontres prennent une autre dimension…\net où la tentation devient irrésistible 😈\nJournée Trio… pour celles et ceux qui aiment partager bien plus qu’un simple moment
LOCATION:2 Av. Amphitrite 34300 Cap d'Agde Village Naturiste
STATUS:CONFIRMED
END:VEVENT
END:VCALENDAR
