BEGIN:VCALENDAR
VERSION:2.0
CALSCALE:GREGORIAN
PRODID:-//CapNatu//Events//FR
METHOD:PUBLISH
BEGIN:VEVENT
UID:69e64faf03cea@capnatu.com
DTSTAMP:20260420T160919Z
DTSTART;TZID=Europe/Paris:20260421T140000
DTEND;TZID=Europe/Paris:20260421T150000
RRULE:FREQ=WEEKLY;BYDAY=TU;UNTIL=20260630T235959
SUMMARY:😈 Mardi – Journée Tentation Extrême à Histoires d’Ô 😈🔥
DESCRIPTION:🔥😈 Mardi – Journée Tentation Extrême à Histoires d’Ô 😈🔥\n📍 Sauna Libertin Histoires d’Ô – Port Ambonne\, Cap d’Agde Village Naturiste\nLe mardi… laissez place à la tentation 🔥\nDès l’ouverture\, entrez dans une atmosphère où les sens s’éveillent et les envies se dévoilent…\n✨ Ambiance intense et envoûtante\n💫 Rencontres\, découvertes et plaisir partagé\n🔥 Une journée placée sous le signe de la séduction et du lâcher-prise\nQue vous soyez curieux ou habitué\, laissez-vous porter par l’expérience unique de Tentation Extrême… 😏
LOCATION:2 Av. Amphitrite 34300 Cap d'Agde Village Naturiste
STATUS:CONFIRMED
END:VEVENT
END:VCALENDAR
