BEGIN:VCALENDAR
VERSION:2.0
CALSCALE:GREGORIAN
PRODID:-//CapNatu//Events//FR
METHOD:PUBLISH
BEGIN:VEVENT
UID:69e64f0a84858@capnatu.com
DTSTAMP:20260420T160634Z
DTSTART;TZID=Europe/Paris:20260420T140000
DTEND;TZID=Europe/Paris:20260420T230000
RRULE:FREQ=WEEKLY;BYDAY=MO;UNTIL=20260629T235959
SUMMARY:Le lundi chez Histoires d'ô
DESCRIPTION:🔥💦 Lundi – Hot Monday à Histoires d’Ô 💦🔥\n📍 Sauna Libertin Histoires d’Ô – Port Ambonne\, Cap d’Agde Village Naturiste\nLe lundi\, la température monte… 😈\nDès 14h\, plongez dans une ambiance sensuelle et conviviale avec :\n✨ Espace mixte\n💞 Espace 100% couples\nUn lieu dédié au plaisir\, à la détente et aux rencontres… dans une atmosphère élégante et chaleureuse 💫\nLaissez-vous porter par l’expérience Hot Monday et vivez un moment hors du temps… 😏
LOCATION:2 Av. Amphitrite 34300 Cap d'Agde Village Naturiste
STATUS:CONFIRMED
END:VEVENT
END:VCALENDAR
