BEGIN:VCALENDAR
VERSION:2.0
CALSCALE:GREGORIAN
PRODID:-//CapNatu//Events//FR
METHOD:PUBLISH
BEGIN:VEVENT
UID:69e62804a1c75@capnatu.com
DTSTAMP:20260420T132004Z
DTSTART;TZID=Europe/Paris:20260420T100000
DTEND;TZID=Europe/Paris:20260420T180000
RRULE:FREQ=DAILY;UNTIL=20260426T235959
SUMMARY:Ko&Kine Boutique – L’Art de la Séduction 👑✨
DESCRIPTION:✨👑 Ko&Kine Boutique – L’Art de la Séduction 👑✨\n📍 Port Ambonne – Cap d’Agde\, Village Naturiste\nEntrez dans un univers où élégance\, sensualité et raffinement ne font qu’un…\nKo&Kine Boutique vous accueille chaque jour dès 10h\, dans une atmosphère chic et confidentielle\, pensée pour sublimer chaque silhouette avec audace et distinction.\n💫 Nouvelle collection exclusive\nDes pièces soigneusement sélectionnées\, aux lignes sophistiquées et aux matières délicates…\nChaque tenue devient une signature.\n👠 Lingerie d’exception\n👗 Prêt-à-porter haut de gamme\n👜 Accessoires & chaussures raffinés\nEntre finesse et caractère\, laissez-vous séduire par des créations qui éveillent les sens et captivent les regards…\n✨ Pour la journée… comme pour les soirées les plus inoubliables\nKo&Kine\, ce n’est pas seulement une boutique…\nC’est une expérience.
LOCATION:CENTRE COMMERCIAL\, 2 Avenue Amphirite\, Av. de Port Ambonne 34300 Cap d'Agde Village Naturiste
STATUS:CONFIRMED
END:VEVENT
END:VCALENDAR
