BEGIN:VCALENDAR
VERSION:2.0
CALSCALE:GREGORIAN
PRODID:-//CapNatu//Events//FR
METHOD:PUBLISH
BEGIN:VEVENT
UID:69e627f3b2765@capnatu.com
DTSTAMP:20260420T131947Z
DTSTART;TZID=Europe/Paris:20260420T120000
DTEND;TZID=Europe/Paris:20260420T130000
RRULE:FREQ=DAILY;UNTIL=20260426T235959
SUMMARY:La Cave – Ouvert tous les jours ✨🍷
DESCRIPTION:🍷✨ La Cave – Ouvert tous les jours ✨🍷\n📍 Bar Restaurant La Cave – Port Ambonne\, Cap d’Agde Village Naturiste\nEnvie d’un moment gourmand dans un cadre agréable face au port ? 🌅\n🍽️ Service tous les jours\, midi & soir\n🎶 Animations musicales tous les week-ends et jours fériés\nDécouvrez le nouveau menu :\n✨ Le Bouillon de La Cave\n🕛 À partir de 12h\n🌙 Dès 19h30\nUne cuisine conviviale à partager entre amis\, dans une ambiance chaleureuse et raffinée 😏\n📍 Face au port de Port Ambonne\n📞 Réservation : 06 61 59 06 56
LOCATION:Avenue de la Joliette 34300 Cap d'Agde Village Naturiste
STATUS:CONFIRMED
END:VEVENT
END:VCALENDAR
