BEGIN:VCALENDAR
VERSION:2.0
CALSCALE:GREGORIAN
PRODID:-//CapNatu//Events//FR
METHOD:PUBLISH
BEGIN:VEVENT
UID:69ecd43ea4812@capnatu.com
DTSTAMP:20260425T144830Z
DTSTART;TZID=Europe/Paris:20260425T000000
DTEND;TZID=Europe/Paris:20260425T050000
SUMMARY:LA MENSUELLE du Plug & Play ✨🔥
DESCRIPTION:🔥✨ Samedi 25 Avril – LA MENSUELLE du Plug & Play ✨🔥\n📍 Discothèque Libertine Plug & Play – Port Ambonne\, Cap d’Agde Village Naturiste\nPréparez-vous pour une nuit hors du commun… 😈\n🎉 Ce mois-ci\, place à une soirée KITSCH complètement déjantée !\n💥 Aux commandes : Tynou pour enflammer le dancefloor\n🕛 Dès minuit et jusqu’à 5h du matin\n🔥 Ambiance caliente\n🎶 Musique\, danse et lâcher-prise\n✨ Une nuit placée sous le signe du plaisir et de la fête\nSortez vos looks les plus fous… ici\, tout est permis 😏
LOCATION:Avenue de la Joliette 34300 Cap d'Agde Village Naturiste
STATUS:CONFIRMED
END:VEVENT
END:VCALENDAR
