BEGIN:VCALENDAR
VERSION:2.0
CALSCALE:GREGORIAN
PRODID:-//CapNatu//Events//FR
METHOD:PUBLISH
BEGIN:VEVENT
UID:69eb78cc3488e@capnatu.com
DTSTAMP:20260424T140604Z
DTSTART;TZID=Europe/Paris:20260424T210000
DTEND;TZID=Europe/Paris:20260424T220000
RRULE:FREQ=DAILY;UNTIL=20260425T235959
SUMMARY:l'envie Tour du Monde Culinaire à L’Envie 🍽️🌍
DESCRIPTION:🌍🍽️ Vendredi 24 & Samedi 25 Avril – Tour du Monde Culinaire à L’Envie 🍽️🌍\n📍 Bar Restaurant L’Envie – Héliopolis\, Cap d’Agde Village Naturiste\nCette semaine\, embarquez pour une escale ensoleillée direction le Portugal 🇵🇹\n👨‍🍳 Le chef Pedro vous propose une spécialité incontournable :\n✨ Une délicieuse brandade de morue\, savoureuse et authentique\nUn voyage culinaire aux accents du sud\, à déguster dans une ambiance chaleureuse et conviviale… 😏\n🎤 Et bien sûr\, la soirée continue avec le karaoké 100% L’Envie dès 21h 🎶🔥\nEntre plaisir des papilles et ambiance festive\, laissez-vous emporter pour un week-end gourmand et animé !\n📞 Réservation : 06 63 84 52 69
LOCATION:1\, Boulevard des Matelots 34300 Cap d'Agde Village Naturiste
STATUS:CONFIRMED
END:VEVENT
END:VCALENDAR
