BEGIN:VCALENDAR
VERSION:2.0
CALSCALE:GREGORIAN
PRODID:-//CapNatu//Events//FR
METHOD:PUBLISH
BEGIN:VEVENT
UID:69e8b2963b22b@capnatu.com
DTSTAMP:20260422T113550Z
DTSTART;TZID=Europe/Paris:20260422T210000
DTEND;TZID=Europe/Paris:20260422T220000
SUMMARY:On démarre la semaine en chanson à L’Envie ✨🎤
DESCRIPTION:🎤✨ Mercredi 22 Avril – On démarre la semaine en chanson à L’Envie ✨🎤\n📍 Bar Restaurant L’Envie – Héliopolis\, Cap d’Agde Village Naturiste\nEt si on lançait la semaine en musique ? 🎶🥂\nRendez-vous dès 21h pour une soirée 100% karaoké dans une ambiance festive et déjantée !\n🎤 Le seul restaurant du village 100% karaoké\n🔥 Des soirées tous les soirs du mercredi au dimanche\n🎶 Du fun\, des rires… et des performances inoubliables !\nEntre amis ou pour rencontrer du monde\, venez chanter vos titres préférés et mettre le feu à la scène 😏✨\n📞 Réservation : 06 63 84 52 69
LOCATION:
STATUS:CONFIRMED
END:VEVENT
END:VCALENDAR
