BEGIN:VCALENDAR
VERSION:2.0
CALSCALE:GREGORIAN
PRODID:-//CapNatu//Events//FR
METHOD:PUBLISH
BEGIN:VEVENT
UID:69ea0893cab03@capnatu.com
DTSTAMP:20260423T115459Z
DTSTART;TZID=Europe/Paris:20260423T210000
DTEND;TZID=Europe/Paris:20260423T220000
SUMMARY:Soirée KITCH à L’Envie ✨🎤
DESCRIPTION:🎤✨ Jeudi 23 Avril – Soirée KITCH à L’Envie ✨🎤\n📍 Bar Restaurant L’Envie – Héliopolis\, Cap d’Agde Village Naturiste\nCette semaine… retour en arrière direction les années Grease ! 💃🕺\n🔥 Aux commandes :\n🎤 John Detraver\n🎤 Olivia Gronichon\nPréparez-vous pour une soirée 100% karaoké dans une ambiance rétro\, fun et totalement déjantée 🎶✨\n👗 Sortez vos petites jupes plissées\n🕶️ Enfilez vos bananes et looks vintage\n🎵 Et venez chanter les plus grands classiques dans une ambiance survoltée !\nEntre amis ou pour faire de nouvelles rencontres… laissez-vous emporter par la folie des soirées kitch de L’Envie 😏\n📞 Réservation : 06 63 84 52 69
LOCATION:1\, Boulevard des Matelots 34300 Cap d'Agde Village Naturiste
STATUS:CONFIRMED
END:VEVENT
END:VCALENDAR
