BEGIN:VCALENDAR
VERSION:2.0
CALSCALE:GREGORIAN
PRODID:-//CapNatu//Events//FR
METHOD:PUBLISH
BEGIN:VEVENT
UID:69e62770216cc@capnatu.com
DTSTAMP:20260420T131736Z
DTSTART;TZID=Europe/Paris:20260420T113000
DTEND;TZID=Europe/Paris:20260420T230000
RRULE:FREQ=DAILY;UNTIL=20260426T235959
SUMMARY:La Bohémia  Ouvert tous les jours midi & soir ✨🌴
DESCRIPTION:🌴✨ La Bohémia – Ouvert tous les jours midi & soir ✨🌴\nEnvie d’une parenthèse hors du temps ?\nLa Bohémia vous ouvre ses portes dans un cadre atypique\, avec une vue imprenable sur Port Nature… 😏✨\n🍽️ Une cuisine savoureuse et généreuse\n🍸 Des cocktails à savourer face au port\n🌅 Un décor unique\, entre charme et évasion\nIci\, chaque instant se vit pleinement… entre plaisirs gourmands et moments de partage\, dans une ambiance chaleureuse et envoûtante 🌿\n✨ Laissez-vous porter par l’esprit bohème… et prolongez la magie jusqu’au bout de la soirée\n📍 Port Nature – Cap d’Agde\, Village Naturiste\n📞 Réservation : 06 60 69 09 67
LOCATION:12 Boulevard des Matelots 34300 Cap d'Agde Village Naturiste
STATUS:CONFIRMED
END:VEVENT
END:VCALENDAR
